BEGIN:VCALENDAR
VERSION:2.0
PRODID:-//Eye Matter - ECPv6.15.20//NONSGML v1.0//EN
CALSCALE:GREGORIAN
METHOD:PUBLISH
X-WR-CALNAME:Eye Matter
X-ORIGINAL-URL:https://www.eyematter.org.uk
X-WR-CALDESC:Events for Eye Matter
REFRESH-INTERVAL;VALUE=DURATION:PT1H
X-Robots-Tag:noindex
X-PUBLISHED-TTL:PT1H
BEGIN:VTIMEZONE
TZID:Europe/London
BEGIN:DAYLIGHT
TZOFFSETFROM:+0000
TZOFFSETTO:+0100
TZNAME:BST
DTSTART:20270328T010000
END:DAYLIGHT
BEGIN:STANDARD
TZOFFSETFROM:+0100
TZOFFSETTO:+0000
TZNAME:GMT
DTSTART:20271031T010000
END:STANDARD
BEGIN:DAYLIGHT
TZOFFSETFROM:+0000
TZOFFSETTO:+0100
TZNAME:BST
DTSTART:20280326T010000
END:DAYLIGHT
BEGIN:STANDARD
TZOFFSETFROM:+0100
TZOFFSETTO:+0000
TZNAME:GMT
DTSTART:20281029T010000
END:STANDARD
BEGIN:DAYLIGHT
TZOFFSETFROM:+0000
TZOFFSETTO:+0100
TZNAME:BST
DTSTART:20290325T010000
END:DAYLIGHT
BEGIN:STANDARD
TZOFFSETFROM:+0100
TZOFFSETTO:+0000
TZNAME:GMT
DTSTART:20291028T010000
END:STANDARD
BEGIN:DAYLIGHT
TZOFFSETFROM:+0000
TZOFFSETTO:+0100
TZNAME:BST
DTSTART:20300331T010000
END:DAYLIGHT
BEGIN:STANDARD
TZOFFSETFROM:+0100
TZOFFSETTO:+0000
TZNAME:GMT
DTSTART:20301027T010000
END:STANDARD
END:VTIMEZONE
BEGIN:VEVENT
DTSTART;TZID=Europe/London:20280503T110000
DTEND;TZID=Europe/London:20280503T110000
DTSTAMP:20260422T062207
CREATED:20241115T150237Z
LAST-MODIFIED:20241115T150237Z
UID:10000352-1840964400-1840964400@www.eyematter.org.uk
SUMMARY:Eye Matter Natter
DESCRIPTION:
URL:https://www.eyematter.org.uk/event/eye-matter-natter-2/2028-05-03/
LOCATION:Zoom
END:VEVENT
BEGIN:VEVENT
DTSTART;TZID=Europe/London:20280517T110000
DTEND;TZID=Europe/London:20280517T120000
DTSTAMP:20260422T062207
CREATED:20241115T150152Z
LAST-MODIFIED:20241115T150152Z
UID:10000293-1842174000-1842177600@www.eyematter.org.uk
SUMMARY:Eye Matter Natter
DESCRIPTION:
URL:https://www.eyematter.org.uk/event/eye-matter-natter/2028-05-17/
LOCATION:Zoom
END:VEVENT
BEGIN:VEVENT
DTSTART;TZID=Europe/London:20280607T110000
DTEND;TZID=Europe/London:20280607T110000
DTSTAMP:20260422T062207
CREATED:20241115T150237Z
LAST-MODIFIED:20241115T150237Z
UID:10000353-1843988400-1843988400@www.eyematter.org.uk
SUMMARY:Eye Matter Natter
DESCRIPTION:
URL:https://www.eyematter.org.uk/event/eye-matter-natter-2/2028-06-07/
LOCATION:Zoom
END:VEVENT
BEGIN:VEVENT
DTSTART;TZID=Europe/London:20280621T110000
DTEND;TZID=Europe/London:20280621T120000
DTSTAMP:20260422T062207
CREATED:20241115T150152Z
LAST-MODIFIED:20241115T150152Z
UID:10000294-1845198000-1845201600@www.eyematter.org.uk
SUMMARY:Eye Matter Natter
DESCRIPTION:
URL:https://www.eyematter.org.uk/event/eye-matter-natter/2028-06-21/
LOCATION:Zoom
END:VEVENT
BEGIN:VEVENT
DTSTART;TZID=Europe/London:20280705T110000
DTEND;TZID=Europe/London:20280705T110000
DTSTAMP:20260422T062207
CREATED:20241115T150237Z
LAST-MODIFIED:20241115T150237Z
UID:10000354-1846407600-1846407600@www.eyematter.org.uk
SUMMARY:Eye Matter Natter
DESCRIPTION:
URL:https://www.eyematter.org.uk/event/eye-matter-natter-2/2028-07-05/
LOCATION:Zoom
END:VEVENT
BEGIN:VEVENT
DTSTART;TZID=Europe/London:20280719T110000
DTEND;TZID=Europe/London:20280719T120000
DTSTAMP:20260422T062207
CREATED:20241115T150152Z
LAST-MODIFIED:20241115T150152Z
UID:10000295-1847617200-1847620800@www.eyematter.org.uk
SUMMARY:Eye Matter Natter
DESCRIPTION:
URL:https://www.eyematter.org.uk/event/eye-matter-natter/2028-07-19/
LOCATION:Zoom
END:VEVENT
BEGIN:VEVENT
DTSTART;TZID=Europe/London:20280802T110000
DTEND;TZID=Europe/London:20280802T110000
DTSTAMP:20260422T062207
CREATED:20241115T150237Z
LAST-MODIFIED:20241115T150237Z
UID:10000355-1848826800-1848826800@www.eyematter.org.uk
SUMMARY:Eye Matter Natter
DESCRIPTION:
URL:https://www.eyematter.org.uk/event/eye-matter-natter-2/2028-08-02/
LOCATION:Zoom
END:VEVENT
BEGIN:VEVENT
DTSTART;TZID=Europe/London:20280816T110000
DTEND;TZID=Europe/London:20280816T120000
DTSTAMP:20260422T062207
CREATED:20241115T150152Z
LAST-MODIFIED:20241115T150152Z
UID:10000296-1850036400-1850040000@www.eyematter.org.uk
SUMMARY:Eye Matter Natter
DESCRIPTION:
URL:https://www.eyematter.org.uk/event/eye-matter-natter/2028-08-16/
LOCATION:Zoom
END:VEVENT
BEGIN:VEVENT
DTSTART;TZID=Europe/London:20280906T110000
DTEND;TZID=Europe/London:20280906T110000
DTSTAMP:20260422T062207
CREATED:20241115T150237Z
LAST-MODIFIED:20241115T150237Z
UID:10000356-1851850800-1851850800@www.eyematter.org.uk
SUMMARY:Eye Matter Natter
DESCRIPTION:
URL:https://www.eyematter.org.uk/event/eye-matter-natter-2/2028-09-06/
LOCATION:Zoom
END:VEVENT
BEGIN:VEVENT
DTSTART;TZID=Europe/London:20280920T110000
DTEND;TZID=Europe/London:20280920T120000
DTSTAMP:20260422T062207
CREATED:20241115T150152Z
LAST-MODIFIED:20241115T150152Z
UID:10000297-1853060400-1853064000@www.eyematter.org.uk
SUMMARY:Eye Matter Natter
DESCRIPTION:
URL:https://www.eyematter.org.uk/event/eye-matter-natter/2028-09-20/
LOCATION:Zoom
END:VEVENT
BEGIN:VEVENT
DTSTART;TZID=Europe/London:20281004T110000
DTEND;TZID=Europe/London:20281004T110000
DTSTAMP:20260422T062207
CREATED:20241115T150237Z
LAST-MODIFIED:20241115T150237Z
UID:10000357-1854270000-1854270000@www.eyematter.org.uk
SUMMARY:Eye Matter Natter
DESCRIPTION:
URL:https://www.eyematter.org.uk/event/eye-matter-natter-2/2028-10-04/
LOCATION:Zoom
END:VEVENT
BEGIN:VEVENT
DTSTART;TZID=Europe/London:20281018T110000
DTEND;TZID=Europe/London:20281018T120000
DTSTAMP:20260422T062207
CREATED:20241115T150152Z
LAST-MODIFIED:20241115T150152Z
UID:10000298-1855479600-1855483200@www.eyematter.org.uk
SUMMARY:Eye Matter Natter
DESCRIPTION:
URL:https://www.eyematter.org.uk/event/eye-matter-natter/2028-10-18/
LOCATION:Zoom
END:VEVENT
BEGIN:VEVENT
DTSTART;TZID=Europe/London:20281101T110000
DTEND;TZID=Europe/London:20281101T110000
DTSTAMP:20260422T062207
CREATED:20241115T150237Z
LAST-MODIFIED:20241115T150237Z
UID:10000358-1856689200-1856689200@www.eyematter.org.uk
SUMMARY:Eye Matter Natter
DESCRIPTION:
URL:https://www.eyematter.org.uk/event/eye-matter-natter-2/2028-11-01/
LOCATION:Zoom
END:VEVENT
BEGIN:VEVENT
DTSTART;TZID=Europe/London:20281115T110000
DTEND;TZID=Europe/London:20281115T120000
DTSTAMP:20260422T062207
CREATED:20241115T150152Z
LAST-MODIFIED:20241115T150152Z
UID:10000299-1857898800-1857902400@www.eyematter.org.uk
SUMMARY:Eye Matter Natter
DESCRIPTION:
URL:https://www.eyematter.org.uk/event/eye-matter-natter/2028-11-15/
LOCATION:Zoom
END:VEVENT
BEGIN:VEVENT
DTSTART;TZID=Europe/London:20281206T110000
DTEND;TZID=Europe/London:20281206T110000
DTSTAMP:20260422T062207
CREATED:20241115T150237Z
LAST-MODIFIED:20241115T150237Z
UID:10000359-1859713200-1859713200@www.eyematter.org.uk
SUMMARY:Eye Matter Natter
DESCRIPTION:
URL:https://www.eyematter.org.uk/event/eye-matter-natter-2/2028-12-06/
LOCATION:Zoom
END:VEVENT
BEGIN:VEVENT
DTSTART;TZID=Europe/London:20281220T110000
DTEND;TZID=Europe/London:20281220T120000
DTSTAMP:20260422T062207
CREATED:20241115T150152Z
LAST-MODIFIED:20241115T150152Z
UID:10000300-1860922800-1860926400@www.eyematter.org.uk
SUMMARY:Eye Matter Natter
DESCRIPTION:
URL:https://www.eyematter.org.uk/event/eye-matter-natter/2028-12-20/
LOCATION:Zoom
END:VEVENT
BEGIN:VEVENT
DTSTART;TZID=Europe/London:20290103T110000
DTEND;TZID=Europe/London:20290103T110000
DTSTAMP:20260422T062207
CREATED:20241115T150237Z
LAST-MODIFIED:20241115T150237Z
UID:10000360-1862132400-1862132400@www.eyematter.org.uk
SUMMARY:Eye Matter Natter
DESCRIPTION:
URL:https://www.eyematter.org.uk/event/eye-matter-natter-2/2029-01-03/
LOCATION:Zoom
END:VEVENT
BEGIN:VEVENT
DTSTART;TZID=Europe/London:20290117T110000
DTEND;TZID=Europe/London:20290117T120000
DTSTAMP:20260422T062207
CREATED:20241115T150152Z
LAST-MODIFIED:20241115T150152Z
UID:10000301-1863342000-1863345600@www.eyematter.org.uk
SUMMARY:Eye Matter Natter
DESCRIPTION:
URL:https://www.eyematter.org.uk/event/eye-matter-natter/2029-01-17/
LOCATION:Zoom
END:VEVENT
BEGIN:VEVENT
DTSTART;TZID=Europe/London:20290207T110000
DTEND;TZID=Europe/London:20290207T110000
DTSTAMP:20260422T062207
CREATED:20241115T150237Z
LAST-MODIFIED:20241115T150237Z
UID:10000361-1865156400-1865156400@www.eyematter.org.uk
SUMMARY:Eye Matter Natter
DESCRIPTION:
URL:https://www.eyematter.org.uk/event/eye-matter-natter-2/2029-02-07/
LOCATION:Zoom
END:VEVENT
BEGIN:VEVENT
DTSTART;TZID=Europe/London:20290221T110000
DTEND;TZID=Europe/London:20290221T120000
DTSTAMP:20260422T062207
CREATED:20241115T150152Z
LAST-MODIFIED:20241115T150152Z
UID:10000302-1866366000-1866369600@www.eyematter.org.uk
SUMMARY:Eye Matter Natter
DESCRIPTION:
URL:https://www.eyematter.org.uk/event/eye-matter-natter/2029-02-21/
LOCATION:Zoom
END:VEVENT
BEGIN:VEVENT
DTSTART;TZID=Europe/London:20290307T110000
DTEND;TZID=Europe/London:20290307T110000
DTSTAMP:20260422T062207
CREATED:20241115T150237Z
LAST-MODIFIED:20241115T150237Z
UID:10000362-1867575600-1867575600@www.eyematter.org.uk
SUMMARY:Eye Matter Natter
DESCRIPTION:
URL:https://www.eyematter.org.uk/event/eye-matter-natter-2/2029-03-07/
LOCATION:Zoom
END:VEVENT
BEGIN:VEVENT
DTSTART;TZID=Europe/London:20290321T110000
DTEND;TZID=Europe/London:20290321T120000
DTSTAMP:20260422T062207
CREATED:20241115T150152Z
LAST-MODIFIED:20241115T150152Z
UID:10000303-1868785200-1868788800@www.eyematter.org.uk
SUMMARY:Eye Matter Natter
DESCRIPTION:
URL:https://www.eyematter.org.uk/event/eye-matter-natter/2029-03-21/
LOCATION:Zoom
END:VEVENT
BEGIN:VEVENT
DTSTART;TZID=Europe/London:20290404T110000
DTEND;TZID=Europe/London:20290404T110000
DTSTAMP:20260422T062207
CREATED:20241115T150237Z
LAST-MODIFIED:20241115T150237Z
UID:10000363-1869994800-1869994800@www.eyematter.org.uk
SUMMARY:Eye Matter Natter
DESCRIPTION:
URL:https://www.eyematter.org.uk/event/eye-matter-natter-2/2029-04-04/
LOCATION:Zoom
END:VEVENT
BEGIN:VEVENT
DTSTART;TZID=Europe/London:20290418T110000
DTEND;TZID=Europe/London:20290418T120000
DTSTAMP:20260422T062207
CREATED:20241115T150152Z
LAST-MODIFIED:20241115T150152Z
UID:10000304-1871204400-1871208000@www.eyematter.org.uk
SUMMARY:Eye Matter Natter
DESCRIPTION:
URL:https://www.eyematter.org.uk/event/eye-matter-natter/2029-04-18/
LOCATION:Zoom
END:VEVENT
BEGIN:VEVENT
DTSTART;TZID=Europe/London:20290502T110000
DTEND;TZID=Europe/London:20290502T110000
DTSTAMP:20260422T062207
CREATED:20241115T150237Z
LAST-MODIFIED:20241115T150237Z
UID:10000364-1872414000-1872414000@www.eyematter.org.uk
SUMMARY:Eye Matter Natter
DESCRIPTION:
URL:https://www.eyematter.org.uk/event/eye-matter-natter-2/2029-05-02/
LOCATION:Zoom
END:VEVENT
BEGIN:VEVENT
DTSTART;TZID=Europe/London:20290516T110000
DTEND;TZID=Europe/London:20290516T120000
DTSTAMP:20260422T062207
CREATED:20241115T150152Z
LAST-MODIFIED:20241115T150152Z
UID:10000305-1873623600-1873627200@www.eyematter.org.uk
SUMMARY:Eye Matter Natter
DESCRIPTION:
URL:https://www.eyematter.org.uk/event/eye-matter-natter/2029-05-16/
LOCATION:Zoom
END:VEVENT
BEGIN:VEVENT
DTSTART;TZID=Europe/London:20290606T110000
DTEND;TZID=Europe/London:20290606T110000
DTSTAMP:20260422T062207
CREATED:20241115T150237Z
LAST-MODIFIED:20241115T150237Z
UID:10000365-1875438000-1875438000@www.eyematter.org.uk
SUMMARY:Eye Matter Natter
DESCRIPTION:
URL:https://www.eyematter.org.uk/event/eye-matter-natter-2/2029-06-06/
LOCATION:Zoom
END:VEVENT
BEGIN:VEVENT
DTSTART;TZID=Europe/London:20290620T110000
DTEND;TZID=Europe/London:20290620T120000
DTSTAMP:20260422T062207
CREATED:20241115T150152Z
LAST-MODIFIED:20241115T150152Z
UID:10000306-1876647600-1876651200@www.eyematter.org.uk
SUMMARY:Eye Matter Natter
DESCRIPTION:
URL:https://www.eyematter.org.uk/event/eye-matter-natter/2029-06-20/
LOCATION:Zoom
END:VEVENT
BEGIN:VEVENT
DTSTART;TZID=Europe/London:20290704T110000
DTEND;TZID=Europe/London:20290704T110000
DTSTAMP:20260422T062207
CREATED:20241115T150237Z
LAST-MODIFIED:20241115T150237Z
UID:10000366-1877857200-1877857200@www.eyematter.org.uk
SUMMARY:Eye Matter Natter
DESCRIPTION:
URL:https://www.eyematter.org.uk/event/eye-matter-natter-2/2029-07-04/
LOCATION:Zoom
END:VEVENT
BEGIN:VEVENT
DTSTART;TZID=Europe/London:20290718T110000
DTEND;TZID=Europe/London:20290718T120000
DTSTAMP:20260422T062207
CREATED:20241115T150152Z
LAST-MODIFIED:20241115T150152Z
UID:10000307-1879066800-1879070400@www.eyematter.org.uk
SUMMARY:Eye Matter Natter
DESCRIPTION:
URL:https://www.eyematter.org.uk/event/eye-matter-natter/2029-07-18/
LOCATION:Zoom
END:VEVENT
END:VCALENDAR